BEGIN:VCALENDAR
VERSION:2.0
PRODID:-//dienaplex.de - ECPv5.14.2.1//NONSGML v1.0//EN
CALSCALE:GREGORIAN
METHOD:PUBLISH
X-WR-CALNAME:dienaplex.de
X-ORIGINAL-URL:https://dienaplex.de
X-WR-CALDESC:Veranstaltungen für dienaplex.de
REFRESH-INTERVAL;VALUE=DURATION:PT1H
X-Robots-Tag:noindex
X-PUBLISHED-TTL:PT1H
BEGIN:VTIMEZONE
TZID:UTC
BEGIN:STANDARD
TZOFFSETFROM:+0000
TZOFFSETTO:+0000
TZNAME:UTC
DTSTART:20220101T000000
END:STANDARD
END:VTIMEZONE
BEGIN:VEVENT
DTSTART;TZID=UTC:20231021T100000
DTEND;TZID=UTC:20231021T170000
DTSTAMP:20260421T132848
CREATED:20230409T204730Z
LAST-MODIFIED:20230511T201531Z
UID:1964-1697882400-1697907600@dienaplex.de
SUMMARY:Praxis-Workshop in Wiesbaden
DESCRIPTION:Dienaplexe und ihre Anwendung: \nDie Dienaplexe in der „Neuen Zeit“ \nReferenten: Beate und Stephanie Diener \nOrt: Mainzer Straße 50\, 65185 Wiesbaden\, ITF-Wiesbaden
URL:https://dienaplex.de/event/praxis-workshop-in-wiesbaden/
END:VEVENT
BEGIN:VEVENT
DTSTART;VALUE=DATE:20230708
DTEND;VALUE=DATE:20230709
DTSTAMP:20260421T132848
CREATED:20230409T204319Z
LAST-MODIFIED:20230409T204319Z
UID:1953-1688774400-1688860799@dienaplex.de
SUMMARY:HP Kongress des Südens in München
DESCRIPTION:Messestand
URL:https://dienaplex.de/event/hp-kongress-des-suedens-in-muenchen/
END:VEVENT
BEGIN:VEVENT
DTSTART;TZID=UTC:20230610T100000
DTEND;TZID=UTC:20230610T170000
DTSTAMP:20260421T132848
CREATED:20230409T204241Z
LAST-MODIFIED:20230511T201548Z
UID:1956-1686391200-1686416400@dienaplex.de
SUMMARY:Praxis-Workshop in Wiesbaden
DESCRIPTION:Dienaplexe und ihre Anwendung: \nDie Dienaplexe in der „Neuen Zeit“ \nReferenten: Beate und Stephanie Diener \nOrt: Mainzer Straße 50\, 65185 Wiesbaden\, ITF-Wiesbaden
URL:https://dienaplex.de/event/1956/
END:VEVENT
BEGIN:VEVENT
DTSTART;VALUE=DATE:20230603
DTEND;VALUE=DATE:20230605
DTSTAMP:20260421T132848
CREATED:20230409T204337Z
LAST-MODIFIED:20230409T204337Z
UID:1951-1685750400-1685923199@dienaplex.de
SUMMARY:Interbiologica in Wiesbaden
DESCRIPTION:Messestand und Vortrag am Samstag um 17 Uhr \n„Sinnesorgane und ihre Sinnhaftigkeit einer ganzheitlichen Therapie“
URL:https://dienaplex.de/event/interbiologica-in-wiesbaden/
END:VEVENT
BEGIN:VEVENT
DTSTART;VALUE=DATE:20230422
DTEND;VALUE=DATE:20230423
DTSTAMP:20260421T132848
CREATED:20230409T204401Z
LAST-MODIFIED:20230409T204401Z
UID:1949-1682121600-1682207999@dienaplex.de
SUMMARY:HP Kongress in München
DESCRIPTION:Messestand Nr. 13 und Vortrag von 10:30 – 11:30 Uhr \n„Sinnesorgane und ihre Sinnhaftigkeit einer ganzheitlichen Therapie“
URL:https://dienaplex.de/event/hp-kongress-in-muenchen/
END:VEVENT
BEGIN:VEVENT
DTSTART;VALUE=DATE:20230415
DTEND;VALUE=DATE:20230417
DTSTAMP:20260421T132848
CREATED:20230409T204439Z
LAST-MODIFIED:20230409T204439Z
UID:1946-1681516800-1681689599@dienaplex.de
SUMMARY:HP Kongress in Baden-Baden
DESCRIPTION:Messestand Nr. 7 im 1.OG und Vortrag am Sonntag von 11:40 – 12:20 Uhr \nGanzheitliche Gesundheit – Heute und morgen: \nSind traditionelle Therapien wie die Dienaplexe geeignet\, mit den gesundheitlichen Herausforderungen von morgen noch fertig zu werden?
URL:https://dienaplex.de/event/hp-kongress-in-baden-baden/
END:VEVENT
BEGIN:VEVENT
DTSTART;VALUE=DATE:20221105
DTEND;VALUE=DATE:20221107
DTSTAMP:20260421T132848
CREATED:20220901T185548Z
LAST-MODIFIED:20220901T185548Z
UID:1911-1667606400-1667779199@dienaplex.de
SUMMARY:90. Tagung für Naturheilkunde in München
DESCRIPTION:Wir freuen uns auf deinen Besuch an unserem Messestand!
URL:https://dienaplex.de/event/90-tagung-fuer-naturheilkunde-in-muenchen/
LOCATION:Hilton München Park\, Am Tucherpark 7\, München\, 80538\, Deutschland
END:VEVENT
BEGIN:VEVENT
DTSTART;TZID=UTC:20221029T093000
DTEND;TZID=UTC:20221029T170000
DTSTAMP:20260421T132848
CREATED:20220901T175543Z
LAST-MODIFIED:20220901T175853Z
UID:1887-1667035800-1667062800@dienaplex.de
SUMMARY:Einführung und Vertiefung in das komplex-homöopathische System der Dienaplex-Therapie
DESCRIPTION:Die praktische Anleitung zu diesem Heilsystem ist ein Weg zum Menschen und seinen Krankheiten und letztlich ein Weg zur Naturheilkunde – dem Heilwerden an der Natur! Im Seminar werden wir uns mit den Grundgedanken der humoralen Diagnostik und Therapie auseinandersetzen\, um so zu einem tiefen Verständnis dieses Heilsystems zu kommen. Wir werden einen Weg durch die 45 komplex-homöopathischen Präparate gehen\, um die verschiedenen Wirkebenen der Heilmittel kennen zu lernen. Ausgehend von Beispielen aus der Praxis wird der therapeutische Einsatz zu verschiedenen Erkrankungen gezeigt.
URL:https://dienaplex.de/event/einfuehrung-und-vertiefung-in-das-komplex-homoeopathische-system-der-dienaplex-therapie/
LOCATION:Maria Hilf Kirche\, Platterstr. 3\, Wiesbaden\, 65193\, Deutschland
END:VEVENT
BEGIN:VEVENT
DTSTART;VALUE=DATE:20221008
DTEND;VALUE=DATE:20221010
DTSTAMP:20260421T132848
CREATED:20220901T185031Z
LAST-MODIFIED:20220901T185031Z
UID:1909-1665187200-1665359999@dienaplex.de
SUMMARY:Heilpraktiker-Kongress in Baden-Baden
DESCRIPTION:Wir freuen uns auf deinen Besuch an unserem Messestand!
URL:https://dienaplex.de/event/heilpraktiker-kongress-in-baden-baden/
END:VEVENT
BEGIN:VEVENT
DTSTART;TZID=UTC:20220430T143000
DTEND;TZID=UTC:20220430T160000
DTSTAMP:20260421T132848
CREATED:20220221T133123Z
LAST-MODIFIED:20220225T095816Z
UID:1645-1651329000-1651334400@dienaplex.de
SUMMARY:Webinar: Rhytmus - Hygiene und der Verlust des allgemeinen Wohlbefindens
DESCRIPTION:Frühjahrstagung 2022 des Heilpraktikerverbandes Bayern. \nKostenfrei für Verbandsmitglieder.\n25€ Tagesgebühr für Nichtmitglieder.
URL:https://dienaplex.de/event/kurse/
END:VEVENT
END:VCALENDAR